BEGIN:VCALENDAR
VERSION:2.0
PRODID:-//WeldenerHof e.V. - ECPv6.15.20//NONSGML v1.0//EN
CALSCALE:GREGORIAN
METHOD:PUBLISH
X-ORIGINAL-URL:https://verein.weldenerhof.de
X-WR-CALDESC:Veranstaltungen für WeldenerHof e.V.
REFRESH-INTERVAL;VALUE=DURATION:PT1H
X-Robots-Tag:noindex
X-PUBLISHED-TTL:PT1H
BEGIN:VTIMEZONE
TZID:Europe/Berlin
BEGIN:DAYLIGHT
TZOFFSETFROM:+0100
TZOFFSETTO:+0200
TZNAME:CEST
DTSTART:20240331T010000
END:DAYLIGHT
BEGIN:STANDARD
TZOFFSETFROM:+0200
TZOFFSETTO:+0100
TZNAME:CET
DTSTART:20241027T010000
END:STANDARD
BEGIN:DAYLIGHT
TZOFFSETFROM:+0100
TZOFFSETTO:+0200
TZNAME:CEST
DTSTART:20250330T010000
END:DAYLIGHT
BEGIN:STANDARD
TZOFFSETFROM:+0200
TZOFFSETTO:+0100
TZNAME:CET
DTSTART:20251026T010000
END:STANDARD
BEGIN:DAYLIGHT
TZOFFSETFROM:+0100
TZOFFSETTO:+0200
TZNAME:CEST
DTSTART:20260329T010000
END:DAYLIGHT
BEGIN:STANDARD
TZOFFSETFROM:+0200
TZOFFSETTO:+0100
TZNAME:CET
DTSTART:20261025T010000
END:STANDARD
END:VTIMEZONE
BEGIN:VEVENT
DTSTART;TZID=Europe/Berlin:20251019T100000
DTEND;TZID=Europe/Berlin:20251019T130000
DTSTAMP:20260420T003303
CREATED:20250805T133241Z
LAST-MODIFIED:20250805T135707Z
UID:1037-1760868000-1760878800@verein.weldenerhof.de
SUMMARY:Achtsamkeitswanderung mit Lamas
DESCRIPTION:„Lamas sind die Delphine der Weide“.\nDiese Wanderung ist für alle Menschen\, die dem hektischen Alltag für ein paar Stunden entfliehen und neue Kraft und Gedanken in sich aufnehmen möchten. \nWir nehmen uns genügend Zeit und lassen uns auf diese speziellen Wesen ein. In der (fast) unberührten Natur des Landschaftsschutzgebietes Weldener Weiher spazieren wir gemütlich und ohne Hast mit unseren sanften Vierbeinern einsame Wege entlang\, lauschen schweigend den Geräuschen des Waldes und nehmen mit allen Sinnen die heilsame Umgebung auf.\n \nAuf einer Zwischenrast beobachten wir das gemütliche Grasen der Tieren\, stärken uns mit einem Tee und lauschen einigen Erläuterungen und Geschichten rund um die Tiere und ihre Herkunft. \nZurück am Stall entlassen wir die Lamas aus unserer menschlichen Gesellschaft und lassen die letzten Stunden nochmals in einem kurzen Gespräch revue passieren. \nReferent(Innen): Anja vom WeldenerHof \nAnmeldung an:  mail (@) verein.weldenerhof.de
URL:https://verein.weldenerhof.de/event/achtsamkeitswanderung-mit-lamas/
LOCATION:WeldenerHof\, Welden 26\, Fuchstal\, Bayern\, 86925\, Germany
CATEGORIES:Tiergestützte Aktivitäten
ATTACH;FMTTYPE=image/png:https://verein.weldenerhof.de/wp-content/uploads/2025/03/Lamawanderung-3.png
ORGANIZER;CN="WeldenerHof":MAILTO:info@weldenerhof.de
END:VEVENT
END:VCALENDAR