BEGIN:VCALENDAR
VERSION:2.0
PRODID:-//WeldenerHof e.V. - ECPv6.15.20//NONSGML v1.0//EN
CALSCALE:GREGORIAN
METHOD:PUBLISH
X-WR-CALNAME:WeldenerHof e.V.
X-ORIGINAL-URL:https://verein.weldenerhof.de
X-WR-CALDESC:Veranstaltungen für WeldenerHof e.V.
REFRESH-INTERVAL;VALUE=DURATION:PT1H
X-Robots-Tag:noindex
X-PUBLISHED-TTL:PT1H
BEGIN:VTIMEZONE
TZID:Europe/Berlin
BEGIN:DAYLIGHT
TZOFFSETFROM:+0100
TZOFFSETTO:+0200
TZNAME:CEST
DTSTART:20250330T010000
END:DAYLIGHT
BEGIN:STANDARD
TZOFFSETFROM:+0200
TZOFFSETTO:+0100
TZNAME:CET
DTSTART:20251026T010000
END:STANDARD
BEGIN:DAYLIGHT
TZOFFSETFROM:+0100
TZOFFSETTO:+0200
TZNAME:CEST
DTSTART:20260329T010000
END:DAYLIGHT
BEGIN:STANDARD
TZOFFSETFROM:+0200
TZOFFSETTO:+0100
TZNAME:CET
DTSTART:20261025T010000
END:STANDARD
BEGIN:DAYLIGHT
TZOFFSETFROM:+0100
TZOFFSETTO:+0200
TZNAME:CEST
DTSTART:20270328T010000
END:DAYLIGHT
BEGIN:STANDARD
TZOFFSETFROM:+0200
TZOFFSETTO:+0100
TZNAME:CET
DTSTART:20271031T010000
END:STANDARD
END:VTIMEZONE
BEGIN:VEVENT
DTSTART;TZID=Europe/Berlin:20260613T140000
DTEND;TZID=Europe/Berlin:20260613T170000
DTSTAMP:20260419T184004
CREATED:20260415T093836Z
LAST-MODIFIED:20260415T095407Z
UID:1112-1781359200-1781370000@verein.weldenerhof.de
SUMMARY:Filzworkshop
DESCRIPTION:Heute wird gefilzt\, was das Zeug hergibt. \nNach einer Einführung ins Nassfilzen startet jeder unter der Anleitung von Anja sein eigenes Filzprojekt (Sitzkissen\, Hausschuhe o.ä) und ist zum Schluss stolz\, ein Unikat sein eigen nennen zu können.
URL:https://verein.weldenerhof.de/event/filzworkshop/
LOCATION:WeldenerHof\, Welden 26\, Fuchstal\, Bayern\, 86925\, Germany
ATTACH;FMTTYPE=image/jpeg:https://verein.weldenerhof.de/wp-content/uploads/2026/04/PXL_20240706_061841943.jpg
END:VEVENT
END:VCALENDAR