BEGIN:VCALENDAR
VERSION:2.0
PRODID:-//WeldenerHof e.V. - ECPv6.15.20//NONSGML v1.0//EN
CALSCALE:GREGORIAN
METHOD:PUBLISH
X-WR-CALNAME:WeldenerHof e.V.
X-ORIGINAL-URL:https://verein.weldenerhof.de
X-WR-CALDESC:Veranstaltungen für WeldenerHof e.V.
REFRESH-INTERVAL;VALUE=DURATION:PT1H
X-Robots-Tag:noindex
X-PUBLISHED-TTL:PT1H
BEGIN:VTIMEZONE
TZID:Europe/Paris
BEGIN:DAYLIGHT
TZOFFSETFROM:+0100
TZOFFSETTO:+0200
TZNAME:CEST
DTSTART:20240331T010000
END:DAYLIGHT
BEGIN:STANDARD
TZOFFSETFROM:+0200
TZOFFSETTO:+0100
TZNAME:CET
DTSTART:20241027T010000
END:STANDARD
BEGIN:DAYLIGHT
TZOFFSETFROM:+0100
TZOFFSETTO:+0200
TZNAME:CEST
DTSTART:20250330T010000
END:DAYLIGHT
BEGIN:STANDARD
TZOFFSETFROM:+0200
TZOFFSETTO:+0100
TZNAME:CET
DTSTART:20251026T010000
END:STANDARD
BEGIN:DAYLIGHT
TZOFFSETFROM:+0100
TZOFFSETTO:+0200
TZNAME:CEST
DTSTART:20260329T010000
END:DAYLIGHT
BEGIN:STANDARD
TZOFFSETFROM:+0200
TZOFFSETTO:+0100
TZNAME:CET
DTSTART:20261025T010000
END:STANDARD
END:VTIMEZONE
BEGIN:VTIMEZONE
TZID:UTC
BEGIN:STANDARD
TZOFFSETFROM:+0000
TZOFFSETTO:+0000
TZNAME:UTC
DTSTART:20240101T000000
END:STANDARD
END:VTIMEZONE
BEGIN:VEVENT
DTSTART;TZID=Europe/Paris:20250911T140000
DTEND;TZID=Europe/Paris:20250911T170000
DTSTAMP:20260420T002953
CREATED:20250805T110323Z
LAST-MODIFIED:20250805T142828Z
UID:1016-1757599200-1757610000@verein.weldenerhof.de
SUMMARY:Schaf dich stark in die Schule
DESCRIPTION:Ein erlebnisreicher Nachmittag für fast-Schulkinder. \nMacherInnen: Anna und Hannah \nAnmeldung an:  mail (@) verein.weldenerhof.de \n 
URL:https://verein.weldenerhof.de/event/schaf-dich-stark-in-die-schule/
LOCATION:WeldenerHof\, Welden 26\, Fuchstal\, Bayern\, 86925\, Germany
CATEGORIES:Bildung,Tiergestützte Aktivitäten
ATTACH;FMTTYPE=image/jpeg:https://verein.weldenerhof.de/wp-content/uploads/2025/07/schaftag-scaled.jpg
ORGANIZER;CN="WeldenerHof e.V.":MAILTO:mail@verein.weldenerhof.de
END:VEVENT
BEGIN:VEVENT
DTSTART;TZID=UTC:20250912T140000
DTEND;TZID=UTC:20250912T170000
DTSTAMP:20260420T002953
CREATED:20250805T111521Z
LAST-MODIFIED:20250805T134149Z
UID:1025-1757685600-1757696400@verein.weldenerhof.de
SUMMARY:Vernetzungstreffen: Tiergestützte Begegnungen in stationären Einrichtungen
DESCRIPTION:Wir laden herzlich zu unserem Vernetzungstreffen am Freitag\, 12.09.2025 ab 14.00 Uhr auf dem Weldenerhof ein!\nErleben Sie einen inspirierenden Nachmittag mit Hofbesichtigung\, einem Impulsvortrag zu tiergestützten Aktivitäten und einem Erlebnisbericht über unsere Lamas in stationären Einrichtungen.\nEine tolle Gelegenheit zum Austausch und Netzwerken. \nMacherInnen: Anna Pirrone\, Ergotherapeutin;  Christiane Manthey\, soziale Betreuung Pflegeheim Wiltschka; Jürgen Leiner \nAnmeldung an:  mail (@) verein.weldenerhof.de
URL:https://verein.weldenerhof.de/event/vernetzungstreffen-tiergestuetzte-begegnungen-in-stationaeren-einrichtungen/
LOCATION:WeldenerHof\, Welden 26\, Fuchstal\, Bayern\, 86925\, Germany
CATEGORIES:Bildung,Tiergestützte Aktivitäten
ATTACH;FMTTYPE=image/png:https://verein.weldenerhof.de/wp-content/uploads/2025/03/Asterix_Heimbesuch-4.png
ORGANIZER;CN="WeldenerHof e.V.":MAILTO:mail@verein.weldenerhof.de
END:VEVENT
END:VCALENDAR